BEGIN:VCALENDAR
VERSION:2.0
PRODID:-//Observer News Group - ECPv6.15.20//NONSGML v1.0//EN
CALSCALE:GREGORIAN
METHOD:PUBLISH
X-WR-CALNAME:Observer News Group
X-ORIGINAL-URL:https://pocatellochubbuckobserver.com
X-WR-CALDESC:Events for Observer News Group
REFRESH-INTERVAL;VALUE=DURATION:PT1H
X-Robots-Tag:noindex
X-PUBLISHED-TTL:PT1H
BEGIN:VTIMEZONE
TZID:America/Boise
BEGIN:DAYLIGHT
TZOFFSETFROM:-0700
TZOFFSETTO:-0600
TZNAME:MDT
DTSTART:20210314T090000
END:DAYLIGHT
BEGIN:STANDARD
TZOFFSETFROM:-0600
TZOFFSETTO:-0700
TZNAME:MST
DTSTART:20211107T080000
END:STANDARD
BEGIN:DAYLIGHT
TZOFFSETFROM:-0700
TZOFFSETTO:-0600
TZNAME:MDT
DTSTART:20220313T090000
END:DAYLIGHT
BEGIN:STANDARD
TZOFFSETFROM:-0600
TZOFFSETTO:-0700
TZNAME:MST
DTSTART:20221106T080000
END:STANDARD
BEGIN:DAYLIGHT
TZOFFSETFROM:-0700
TZOFFSETTO:-0600
TZNAME:MDT
DTSTART:20230312T090000
END:DAYLIGHT
BEGIN:STANDARD
TZOFFSETFROM:-0600
TZOFFSETTO:-0700
TZNAME:MST
DTSTART:20231105T080000
END:STANDARD
END:VTIMEZONE
BEGIN:VEVENT
DTSTART;TZID=America/Boise:20220913T183000
DTEND;TZID=America/Boise:20220913T210000
DTSTAMP:20260425T182934
CREATED:20220908T042823Z
LAST-MODIFIED:20220908T042823Z
UID:31274-1663093800-1663102800@pocatellochubbuckobserver.com
SUMMARY:SUFI Homeschooling Seminar
DESCRIPTION:
URL:https://pocatellochubbuckobserver.com/event/sufi-homeschooling-seminar/
LOCATION:Snake River Event Center\, 780 Lindsay Blvd\, Idaho Falls
CATEGORIES:Seminar
ATTACH;FMTTYPE=image/png:https://pocatellochubbuckobserver.com/wp-content/uploads/2022/08/SUFI.png
END:VEVENT
BEGIN:VEVENT
DTSTART;TZID=America/Boise:20220816T183000
DTEND;TZID=America/Boise:20220816T183000
DTSTAMP:20260425T182934
CREATED:20220811T030640Z
LAST-MODIFIED:20220811T183736Z
UID:30363-1660674600-1660674600@pocatellochubbuckobserver.com
SUMMARY:"How to Homeschool Your Children" Seminar
DESCRIPTION:Stand Up For Idaho is hosting a special Homeschool seminar on August 16\, 2022.\n\n\nThere are as many ways to homeschool as there are families that homeschool\, and none of them are wrong. Come and listen to several successful veteran homeschool moms share their experience homeschooling their own children. What worked and what didn’t and what curriculum they used. These moms ARE passionate about homeschooling.
URL:https://pocatellochubbuckobserver.com/event/how-to-homeschool-your-children-seminar/
LOCATION:Snake River Event Center\, 780 Lindsay Blvd\, Idaho Falls
CATEGORIES:Seminar
ATTACH;FMTTYPE=image/png:https://pocatellochubbuckobserver.com/wp-content/uploads/2022/08/SUFI.png
END:VEVENT
END:VCALENDAR